BEGIN:VCALENDAR
VERSION:2.0
PRODID:-//wp-events-plugin.com//7.2.3.1//EN
TZID:Europe/Madrid
X-WR-TIMEZONE:Europe/Madrid
BEGIN:VEVENT
UID:9@cocin-cartagena.es
DTSTART;TZID=Europe/Madrid;VALUE=DATE:20250607
DTEND;TZID=Europe/Madrid;VALUE=DATE:20250616
DTSTAMP:20250521T120520Z
URL:https://cocin-cartagena.es/events/mision-comercial-directa-mexico-y-ca
 lifornia-2025/
SUMMARY:Misión Comercial Directa México y California 2025
DESCRIPTION:
ATTACH;FMTTYPE=image/jpeg:https://cocin-cartagena.es/wp-content/uploads/20
 25/04/MisionMexicoCalifornia2025-scaled.webp
CATEGORIES:Misión Comercial / Ferial
LOCATION:https://cocin-cartagena.es/2025/04/01/mision-comercial-directa-mex
 ico-y-california-2025/
END:VEVENT
BEGIN:VTIMEZONE
TZID:Europe/Madrid
X-LIC-LOCATION:Europe/Madrid
BEGIN:DAYLIGHT
DTSTART:20250330T030000
TZOFFSETFROM:+0100
TZOFFSETTO:+0200
TZNAME:CEST
END:DAYLIGHT
END:VTIMEZONE
END:VCALENDAR