BEGIN:VCALENDAR
VERSION:2.0
PRODID:-//wp-events-plugin.com//7.2.3.1//EN
TZID:Europe/Madrid
X-WR-TIMEZONE:Europe/Madrid
BEGIN:VEVENT
UID:46@cocin-cartagena.es
DTSTART;TZID=Europe/Madrid:20260627T000000
DTEND;TZID=Europe/Madrid:20260704T000000
DTSTAMP:20260309T131422Z
URL:https://cocin-cartagena.es/events/mision-comercial-directa-brasil-y-pa
 raguay-2026/
SUMMARY:Misión Comercial Directa Brasil y Paraguay 2026
DESCRIPTION:
ATTACH;FMTTYPE=image/jpeg:https://cocin-cartagena.es/wp-content/uploads/20
 26/03/MisionBrasilParaguay2026.webp
CATEGORIES:Misión Comercial / Ferial
LOCATION:https://cocin-cartagena.es/2026/03/09/mision-comercial-directa-bra
 sil-y-paraguay-2026/
END:VEVENT
BEGIN:VTIMEZONE
TZID:Europe/Madrid
X-LIC-LOCATION:Europe/Madrid
BEGIN:DAYLIGHT
DTSTART:20260329T030000
TZOFFSETFROM:+0100
TZOFFSETTO:+0200
TZNAME:CEST
END:DAYLIGHT
END:VTIMEZONE
END:VCALENDAR