BEGIN:VCALENDAR
VERSION:2.0
PRODID:-//wp-events-plugin.com//7.2.3.1//EN
TZID:Europe/Madrid
X-WR-TIMEZONE:Europe/Madrid
BEGIN:VEVENT
UID:50@cocin-cartagena.es
DTSTART;TZID=Europe/Madrid:20260514T093000
DTEND;TZID=Europe/Madrid:20260514T103000
DTSTAMP:20260422T101751Z
URL:https://cocin-cartagena.es/events/jornada-presentacion-de-ayudas-y-pro
 grama-de-acceso-al-mercado-de-naciones-unidas/
SUMMARY:Jornada Presentación de Ayudas y Programa de Acceso al Mercado de 
 Naciones Unidas
DESCRIPTION:
ATTACH;FMTTYPE=image/jpeg:https://cocin-cartagena.es/wp-content/uploads/20
 26/04/MercadoNacionesUnidas2026.webp
CATEGORIES:Formación Online
LOCATION:https://cocin-cartagena.es/curso/jornada-presentacion-ayudas-y-pro
 grama-acceso-mercado-naciones-unidas/
END:VEVENT
BEGIN:VTIMEZONE
TZID:Europe/Madrid
X-LIC-LOCATION:Europe/Madrid
BEGIN:DAYLIGHT
DTSTART:20260329T030000
TZOFFSETFROM:+0100
TZOFFSETTO:+0200
TZNAME:CEST
END:DAYLIGHT
END:VTIMEZONE
END:VCALENDAR