BEGIN:VCALENDAR
VERSION:2.0
PRODID:-//wp-events-plugin.com//7.2.3.1//EN
TZID:Europe/Madrid
X-WR-TIMEZONE:Europe/Madrid
BEGIN:VEVENT
UID:49@cocin-cartagena.es
DTSTART;TZID=Europe/Madrid:20260521T093000
DTEND;TZID=Europe/Madrid:20260521T101500
DTSTAMP:20260422T101620Z
URL:https://cocin-cartagena.es/events/jornada-pais-zambia-zimbabue-y-madag
 ascar-mercados-olvidados-pero-llenos-de-oportunidades/
SUMMARY:Jornada País: Zambia\, Zimbabue y Madagascar. Mercados Olvidados p
 ero Llenos de Oportunidades
DESCRIPTION:
ATTACH;FMTTYPE=image/jpeg:https://cocin-cartagena.es/wp-content/uploads/20
 26/04/JornadaPaisZambiaZimbabueMadagascar2026.webp
CATEGORIES:Formación Online
LOCATION:https://cocin-cartagena.es/curso/jornada-pais-zambia-zimbabue-y-ma
 dagascar/
END:VEVENT
BEGIN:VTIMEZONE
TZID:Europe/Madrid
X-LIC-LOCATION:Europe/Madrid
BEGIN:DAYLIGHT
DTSTART:20260329T030000
TZOFFSETFROM:+0100
TZOFFSETTO:+0200
TZNAME:CEST
END:DAYLIGHT
END:VTIMEZONE
END:VCALENDAR