BEGIN:VCALENDAR
VERSION:2.0
PRODID:-//wp-events-plugin.com//7.2.3.1//EN
TZID:Europe/Madrid
X-WR-TIMEZONE:Europe/Madrid
BEGIN:VEVENT
UID:40@cocin-cartagena.es
DTSTART;TZID=Europe/Madrid:20260504T000000
DTEND;TZID=Europe/Madrid:20260507T000000
DTSTAMP:20260220T080543Z
URL:https://cocin-cartagena.es/events/feria-offshore-technology-conference
 -otc-2026/
SUMMARY:Feria "Offshore Technology Conference (OTC) 2026"
DESCRIPTION:
ATTACH;FMTTYPE=image/jpeg:https://cocin-cartagena.es/wp-content/uploads/20
 26/02/PreinscripcionOffshoreTechnologyConference2026.webp
CATEGORIES:Misión Comercial / Ferial
LOCATION:https://cocin-cartagena.es/2026/02/20/offshore-technology-conferen
 ce-otc-2026/
END:VEVENT
BEGIN:VTIMEZONE
TZID:Europe/Madrid
X-LIC-LOCATION:Europe/Madrid
BEGIN:DAYLIGHT
DTSTART:20260329T030000
TZOFFSETFROM:+0100
TZOFFSETTO:+0200
TZNAME:CEST
END:DAYLIGHT
END:VTIMEZONE
END:VCALENDAR