BEGIN:VCALENDAR
VERSION:2.0
PRODID:-//wp-events-plugin.com//7.2.3.1//EN
TZID:Europe/Madrid
X-WR-TIMEZONE:Europe/Madrid
BEGIN:VEVENT
UID:41@cocin-cartagena.es
DTSTART;TZID=Europe/Madrid:20260311T090000
DTEND;TZID=Europe/Madrid:20260331T140000
DTSTAMP:20260225T130756Z
URL:https://cocin-cartagena.es/events/curso-auxiliar-de-logistica-y-etique
 tado/
SUMMARY:Curso: Auxiliar de Logística y Etiquetado
DESCRIPTION:
ATTACH;FMTTYPE=image/jpeg:https://cocin-cartagena.es/wp-content/uploads/20
 26/01/BANNER_CURSO_PARQUETERIA_TALENTO_JOVEN.webp
CATEGORIES:Jornada Presencial
LOCATION:https://cocin-cartagena.es/curso/curso-auxiliar-de-logistica-y-eti
 quetado/
END:VEVENT
BEGIN:VTIMEZONE
TZID:Europe/Madrid
X-LIC-LOCATION:Europe/Madrid
BEGIN:STANDARD
DTSTART:20251026T020000
TZOFFSETFROM:+0200
TZOFFSETTO:+0100
TZNAME:CET
END:STANDARD
BEGIN:DAYLIGHT
DTSTART:20260329T030000
TZOFFSETFROM:+0100
TZOFFSETTO:+0200
TZNAME:CEST
END:DAYLIGHT
END:VTIMEZONE
END:VCALENDAR